BEGIN:VCALENDAR
VERSION:2.0
PRODID:spatie/icalendar-generator
DESCRIPTION:Events from KiireAbi
X-WR-CALDESC:Events from KiireAbi
REFRESH-INTERVAL;VALUE=DURATION:PT1440M
X-PUBLISHED-TTL:PT1440M
BEGIN:VTIMEZONE
TZID:Etc/GMT+0
BEGIN:STANDARD
DTSTART:20231217T170000Z
TZOFFSETFROM:+0000
TZOFFSETTO:+0000
END:STANDARD
END:VTIMEZONE
BEGIN:VTIMEZONE
TZID:UTC
BEGIN:STANDARD
DTSTART:20250725T084157Z
TZOFFSETFROM:+0000
TZOFFSETTO:+0000
END:STANDARD
END:VTIMEZONE
BEGIN:VEVENT
UID:3-3
DTSTAMP:20260421T084157Z
SUMMARY:Autokooli esmaabi
LOCATION:Õppeklass Vae 2\, ruum 21  Laagri
ORGANIZER;CN=tonu:MAILTO:tonu@kraaps.eu
DTSTART;TZID=Etc/GMT+0:20240912T170000
DTEND;TZID=Etc/GMT+0:20240912T210000
X-ALT-DESC;FMTTYPE=TEXT/HTML:Vae 2
CATEGORIES:General
URL;VALUE=URI:https://www.kiireabi.ee/mc-events/autokooli-esmaabi-2/
METHOD:PUBLISH
END:VEVENT
END:VCALENDAR